BEGIN:VCALENDAR

VERSION:2.0

PRODID:-//wp-events-plugin.com//6.3//EN

TZID:Asia/Jerusalem

X-WR-TIMEZONE:Asia/Jerusalem
BEGIN:VEVENT

UID:268@dds.technion.ac.il

DTSTART;TZID=Asia/Jerusalem:20221127T123000

DTEND;TZID=Asia/Jerusalem:20221127T130000

DTSTAMP:20221106T081726Z

URL:https://dds.technion.ac.il/he/iemevents/sparking-creativity-encouragin
 g-creative-idea-generation-through-automatically-generated-word-recommenda
 tions/

SUMMARY:Sparking Creativity: Encouraging Creative Idea Generation through A
 utomatically Generated Word Recommendations [	\n					Graduate Student Semi
 nar\n					Seminars\n			\n	]
DESCRIPTION:By: M.Sc.  Talia Wise\n Advisors: Prof. Yoed Kenett\n Where: Bl
 oomfield 527 From:\nTechnion\nAbstract:\n\nCreative block is a familiar fo
 e to any who attempt to create\, and is especially related to “writers b
 lock”. While significant effort has been focused on developing methods t
 o break such blocks\, it remains an active challenge. The current study pr
 esents a proof-of-concept for a cognitive network sciences-based online al
 gorithm that aims to spark creative ideas: Once a participant “runs out
 ” of ideas in a creative idea generation task\, our algorithm suggests w
 ord-recommendations to prime new ideas. These word-recommendations are eit
 her towards or away from previous ideas\, as well as close or far from the
  target object\, based on a conceptual space extracted from the participan
 ts responses using online text analysis. Our results indicate that the loc
 ation of word-recommendations affects the fluency and creativity of ones
 ’ ideas. In addition\, we show how participants fluent intelligent and c
 reativity levels affect how they many benefit from these word-recommendati
 ons.\n\n&nbsp\;\n\n&nbsp\;
CATEGORIES:Graduate Student Seminar,Seminars
LOCATION:Bloomfield 527

END:VEVENT

BEGIN:VTIMEZONE

TZID:Asia/Jerusalem

X-LIC-LOCATION:Asia/Jerusalem

BEGIN:STANDARD

DTSTART:20221030T010000

TZOFFSETFROM:+0300

TZOFFSETTO:+0200

TZNAME:IST

END:STANDARD

END:VTIMEZONE
END:VCALENDAR