BEGIN:VCALENDAR

VERSION:2.0

PRODID:-//wp-events-plugin.com//6.3//EN

TZID:Asia/Jerusalem

X-WR-TIMEZONE:Asia/Jerusalem
BEGIN:VEVENT

UID:274@dds.technion.ac.il

DTSTART;TZID=Asia/Jerusalem:20221116T143000

DTEND;TZID=Asia/Jerusalem:20221116T143000

DTSTAMP:20221110T062903Z

URL:https://dds.technion.ac.il/iemevents/the-reward-value-of-having-our-so
 cial-expectations-confirmed/

SUMMARY:The reward value of having our social expectations confirmed [	\n		
 			Behavioral and Management Sciences\n					Seminars\n			\n	]
DESCRIPTION:By:  Dr. Niv Reggev\n Advisors: \n Where: Bloomfield 527 From:\
 nBen Gurion University \nABSTRACT\n\nExpectations about other individuals 
 shape many of our social interactions. But what happens when these expecta
 tions come about? In this talk\, I will suggest that it is intrinsically r
 ewarding for us to successfully use stereotypes and other sources of knowl
 edge to predict other individuals. In a set of pre-registered studies (tot
 al N &gt\; 1000)\, participants consistently chose to interact with stereo
 type-confirming targets\, even when making such choices entailed forgoing 
 higher monetary amounts. To provide further support for the subjective val
 ue of stereotype-confirmation\, two separate groups of participants underw
 ent fMRI scanning (total N=58) while rating expectation-confirming or expe
 ctation-violating targets. Reward-related regions increased their activity
  to expectation-confirming relative to expectation-violating information. 
 We found this effect for expectations emanating from stereotypes as well a
 s for expectations emanating from knowledge about famous individuals. Toge
 ther\, these findings indicate that participants subjectively value the su
 ccessful prediction of social targets. This subjective value may underlie 
 the motivation to confirm our expectations while interacting with – and 
 interpreting information about – other individuals.
CATEGORIES:Behavioral and Management Sciences,Seminars
LOCATION:Bloomfield 527

END:VEVENT

BEGIN:VTIMEZONE

TZID:Asia/Jerusalem

X-LIC-LOCATION:Asia/Jerusalem

BEGIN:STANDARD

DTSTART:20221030T010000

TZOFFSETFROM:+0300

TZOFFSETTO:+0200

TZNAME:IST

END:STANDARD

END:VTIMEZONE
END:VCALENDAR